BEGIN:VCALENDAR
VERSION:2.0
PRODID:-//528 Rapid Trauma Release&trade; - ECPv6.15.20//NONSGML v1.0//EN
CALSCALE:GREGORIAN
METHOD:PUBLISH
X-WR-CALNAME:528 Rapid Trauma Release&trade;
X-ORIGINAL-URL:https://528rtr.com
X-WR-CALDESC:Events for 528 Rapid Trauma Release&trade;
REFRESH-INTERVAL;VALUE=DURATION:PT1H
X-Robots-Tag:noindex
X-PUBLISHED-TTL:PT1H
BEGIN:VTIMEZONE
TZID:America/Toronto
BEGIN:DAYLIGHT
TZOFFSETFROM:-0500
TZOFFSETTO:-0400
TZNAME:EDT
DTSTART:20250309T070000
END:DAYLIGHT
BEGIN:STANDARD
TZOFFSETFROM:-0400
TZOFFSETTO:-0500
TZNAME:EST
DTSTART:20251102T060000
END:STANDARD
BEGIN:DAYLIGHT
TZOFFSETFROM:-0500
TZOFFSETTO:-0400
TZNAME:EDT
DTSTART:20260308T070000
END:DAYLIGHT
BEGIN:STANDARD
TZOFFSETFROM:-0400
TZOFFSETTO:-0500
TZNAME:EST
DTSTART:20261101T060000
END:STANDARD
BEGIN:DAYLIGHT
TZOFFSETFROM:-0500
TZOFFSETTO:-0400
TZNAME:EDT
DTSTART:20270314T070000
END:DAYLIGHT
BEGIN:STANDARD
TZOFFSETFROM:-0400
TZOFFSETTO:-0500
TZNAME:EST
DTSTART:20271107T060000
END:STANDARD
END:VTIMEZONE
BEGIN:VEVENT
DTSTART;TZID=America/Toronto:20260815T190000
DTEND;TZID=America/Toronto:20260815T220000
DTSTAMP:20260421T051657
CREATED:20260316T160045Z
LAST-MODIFIED:20260317T175747Z
UID:746-1786820400-1786831200@528rtr.com
SUMMARY:528 Rapid Trauma Release™ On-line for Australian Bowen Practitioners / North American west coast
DESCRIPTION:Instructor Madeline McBride. For registration details\, click on the title. \n6 spaces available.  The workshop starts Saturday at 7 p.m. EDT (UTC-4) \nRepeat for free. Otherwise the cost is $130 CAD as converted below. \nCalifornia/Washington State/BC: 4:00 p.m. PDT (UTC-7)  $95 USD \nPerth\, Australia: Sunday August 16 at 7 a.m. (UTC + 8) $135 AUD \nVictoria\, Australia: Sunday August 16 at 10:00 a.m. (UTC+11) $135 AUD \nThis on-line workshop is for two (2) people at each location\, sharing a large screen; e/g/ laptop. If you are repeating\, you don’t need a partner. \nThis workshop is experiential. If you cannot experience trauma release during the workshop\, there is no point in taking it. \nThere are three important conditions respecting this on-line workshop: \n\nEveryone MUST have a practice partner physically in the room (except repeaters.)\nYou both must register and pay in advance of the workshop.*\nOne of the partners MUST be a Bowen Therapist. One of you must know the basic Bowen move. If your partner is not a Bowen Therapist\, you will have to teach the Bowen move to him/her\, preferably in advance of the workshop.\n\n*Please note: if your practice partner is not available on the day of the workshop\, your $ will be refunded minus exchange rates and fees OR you can register for the next on-line workshop. \nINSTRUCTOR \nMadeine McBride\, founder\, 528 Rapid Trauma Release™ \nREGISTER \nThe on-line workshop will be limited to 6 participants (3 sets of partners) + unlimited repeaters. \nRepeat for free. \nTo register\, Email Madeline@mcbridepainclinic.com. \nPlease state in your email: \n\nName\nYour contact email\nCity/Country (for time zone)\nName of practice partner for the workshop\nWhether you are a Bowen Technique/ Bowenwork / Bowen Therapist.\n\nYou will receive a PayPal invoice sent to your email.
URL:https://528rtr.com/event/528-rapid-trauma-release-on-line-for-australian-bowen-practitioners-north-american-west-coast/
LOCATION:on Zoom\, Ontario\, Canada
ORGANIZER;CN="Madeline McBride":MAILTO:madeline@mcbridepainclinic.com
END:VEVENT
END:VCALENDAR